BEGIN:VCALENDAR
VERSION:2.0
PRODID:-//Silvertree Wellness - ECPv6.15.20//NONSGML v1.0//EN
CALSCALE:GREGORIAN
METHOD:PUBLISH
X-WR-CALNAME:Silvertree Wellness
X-ORIGINAL-URL:https://silvertreewellnessuk.com
X-WR-CALDESC:Events for Silvertree Wellness
REFRESH-INTERVAL;VALUE=DURATION:PT1H
X-Robots-Tag:noindex
X-PUBLISHED-TTL:PT1H
BEGIN:VTIMEZONE
TZID:Europe/London
BEGIN:DAYLIGHT
TZOFFSETFROM:+0000
TZOFFSETTO:+0100
TZNAME:BST
DTSTART:20240331T010000
END:DAYLIGHT
BEGIN:STANDARD
TZOFFSETFROM:+0100
TZOFFSETTO:+0000
TZNAME:GMT
DTSTART:20241027T010000
END:STANDARD
BEGIN:DAYLIGHT
TZOFFSETFROM:+0000
TZOFFSETTO:+0100
TZNAME:BST
DTSTART:20250330T010000
END:DAYLIGHT
BEGIN:STANDARD
TZOFFSETFROM:+0100
TZOFFSETTO:+0000
TZNAME:GMT
DTSTART:20251026T010000
END:STANDARD
BEGIN:DAYLIGHT
TZOFFSETFROM:+0000
TZOFFSETTO:+0100
TZNAME:BST
DTSTART:20260329T010000
END:DAYLIGHT
BEGIN:STANDARD
TZOFFSETFROM:+0100
TZOFFSETTO:+0000
TZNAME:GMT
DTSTART:20261025T010000
END:STANDARD
END:VTIMEZONE
BEGIN:VEVENT
DTSTART;TZID=Europe/London:20250814T190000
DTEND;TZID=Europe/London:20250814T203000
DTSTAMP:20260421T144931
CREATED:20250709T164520Z
LAST-MODIFIED:20250722T133316Z
UID:497-1755198000-1755203400@silvertreewellnessuk.com
SUMMARY:Woman's Circle with Natalie
DESCRIPTION:For tickets go to: \nhttps://buy.stripe.com/bJe5kC26melr5go1ey33W02
URL:https://silvertreewellnessuk.com/event/womans-circle-with-natalie/
LOCATION:Silvertree Wellness\, 1 Welshman's Lane\, Nantwich\, Cheshire\, CW5 6AD\, United Kingdom
CATEGORIES:NCG Therapy
END:VEVENT
BEGIN:VEVENT
DTSTART;TZID=Europe/London:20250809T184500
DTEND;TZID=Europe/London:20250809T204500
DTSTAMP:20260421T144931
CREATED:20250709T164328Z
LAST-MODIFIED:20250722T133527Z
UID:494-1754765100-1754772300@silvertreewellnessuk.com
SUMMARY:Under the Sturgeon Full Moon and Cacao Rebirth Ceremony with El
DESCRIPTION:For tickets go to: \nhttps://evolveology.thrivecart.com/evolveology-sturgeonmoon/
URL:https://silvertreewellnessuk.com/event/full-moon-and-cacao-rebirth-ceremony-with-el/
LOCATION:Silvertree Wellness\, 1 Welshman's Lane\, Nantwich\, Cheshire\, CW5 6AD\, United Kingdom
CATEGORIES:The Evolveologist
END:VEVENT
BEGIN:VEVENT
DTSTART;TZID=Europe/London:20250724T190000
DTEND;TZID=Europe/London:20250724T203000
DTSTAMP:20260421T144931
CREATED:20250709T163928Z
LAST-MODIFIED:20250722T132713Z
UID:491-1753383600-1753389000@silvertreewellnessuk.com
SUMMARY:Women's Circle with Natalie
DESCRIPTION:For tickets go to: \nhttps://buy.stripe.com/bJe5kC26melr5go1ey33W02
URL:https://silvertreewellnessuk.com/event/womens-circle-with-natalie/
LOCATION:Silvertree Wellness\, 1 Welshman's Lane\, Nantwich\, Cheshire\, CW5 6AD\, United Kingdom
CATEGORIES:NCG Therapy
END:VEVENT
BEGIN:VEVENT
DTSTART;TZID=Europe/London:20250717T080000
DTEND;TZID=Europe/London:20250717T170000
DTSTAMP:20260421T144931
CREATED:20250709T163227Z
LAST-MODIFIED:20250709T174734Z
UID:488-1752739200-1752771600@silvertreewellnessuk.com
SUMMARY:Women's Business Network with El
DESCRIPTION:
URL:https://silvertreewellnessuk.com/event/womens-business-network-with-el/
LOCATION:Silvertree Wellness\, 1 Welshman's Lane\, Nantwich\, Cheshire\, CW5 6AD\, United Kingdom
CATEGORIES:The Evolveologist
ORGANIZER;CN="Silvertree Wellness UK":MAILTO:info@silvertreewellnessuk.com
END:VEVENT
END:VCALENDAR